BEGIN:VCALENDAR
VERSION:2.0
PRODID:-//Roberts Academy at Mercer University - ECPv6.15.20//NONSGML v1.0//EN
CALSCALE:GREGORIAN
METHOD:PUBLISH
X-ORIGINAL-URL:https://robertsacademy.org
X-WR-CALDESC:Events for Roberts Academy at Mercer University
REFRESH-INTERVAL;VALUE=DURATION:PT1H
X-Robots-Tag:noindex
X-PUBLISHED-TTL:PT1H
BEGIN:VTIMEZONE
TZID:America/New_York
BEGIN:DAYLIGHT
TZOFFSETFROM:-0500
TZOFFSETTO:-0400
TZNAME:EDT
DTSTART:20240310T070000
END:DAYLIGHT
BEGIN:STANDARD
TZOFFSETFROM:-0400
TZOFFSETTO:-0500
TZNAME:EST
DTSTART:20241103T060000
END:STANDARD
BEGIN:DAYLIGHT
TZOFFSETFROM:-0500
TZOFFSETTO:-0400
TZNAME:EDT
DTSTART:20250309T070000
END:DAYLIGHT
BEGIN:STANDARD
TZOFFSETFROM:-0400
TZOFFSETTO:-0500
TZNAME:EST
DTSTART:20251102T060000
END:STANDARD
BEGIN:DAYLIGHT
TZOFFSETFROM:-0500
TZOFFSETTO:-0400
TZNAME:EDT
DTSTART:20260308T070000
END:DAYLIGHT
BEGIN:STANDARD
TZOFFSETFROM:-0400
TZOFFSETTO:-0500
TZNAME:EST
DTSTART:20261101T060000
END:STANDARD
END:VTIMEZONE
BEGIN:VEVENT
DTSTART;TZID=America/New_York:20250813T074500
DTEND;TZID=America/New_York:20250813T151500
DTSTAMP:20260420T093321
CREATED:20250408T184001Z
LAST-MODIFIED:20250811T152838Z
UID:638-1755071100-1755098100@robertsacademy.org
SUMMARY:First Day of School - Half-Day
DESCRIPTION:The first day of school is a half-day. Dismissal begins at 12:00 p.m and ends at 12:15.
URL:https://robertsacademy.org/event/first-day-of-school-2/
LOCATION:Roberts Academy\, 1027 Linden Avenue\, Macon\, GA\, 31210\, United States
END:VEVENT
BEGIN:VEVENT
DTSTART;TZID=America/New_York:20250829T081500
DTEND;TZID=America/New_York:20250829T121500
DTSTAMP:20260420T093321
CREATED:20250408T184152Z
LAST-MODIFIED:20250408T184152Z
UID:639-1756455300-1756469700@robertsacademy.org
SUMMARY:Half-Day
DESCRIPTION:There is no lunch period\, Cubs Club (after school program) or afternoon bus transportation on half-days.
URL:https://robertsacademy.org/event/half-day-5/
LOCATION:Roberts Academy\, 1027 Linden Avenue\, Macon\, GA\, 31210\, United States
END:VEVENT
END:VCALENDAR