BEGIN:VCALENDAR
VERSION:2.0
PRODID:-//Roberts Academy at Mercer University - ECPv6.15.20//NONSGML v1.0//EN
CALSCALE:GREGORIAN
METHOD:PUBLISH
X-ORIGINAL-URL:https://robertsacademy.org
X-WR-CALDESC:Events for Roberts Academy at Mercer University
REFRESH-INTERVAL;VALUE=DURATION:PT1H
X-Robots-Tag:noindex
X-PUBLISHED-TTL:PT1H
BEGIN:VTIMEZONE
TZID:America/New_York
BEGIN:DAYLIGHT
TZOFFSETFROM:-0500
TZOFFSETTO:-0400
TZNAME:EDT
DTSTART:20230312T070000
END:DAYLIGHT
BEGIN:STANDARD
TZOFFSETFROM:-0400
TZOFFSETTO:-0500
TZNAME:EST
DTSTART:20231105T060000
END:STANDARD
BEGIN:DAYLIGHT
TZOFFSETFROM:-0500
TZOFFSETTO:-0400
TZNAME:EDT
DTSTART:20240310T070000
END:DAYLIGHT
BEGIN:STANDARD
TZOFFSETFROM:-0400
TZOFFSETTO:-0500
TZNAME:EST
DTSTART:20241103T060000
END:STANDARD
BEGIN:DAYLIGHT
TZOFFSETFROM:-0500
TZOFFSETTO:-0400
TZNAME:EDT
DTSTART:20250309T070000
END:DAYLIGHT
BEGIN:STANDARD
TZOFFSETFROM:-0400
TZOFFSETTO:-0500
TZNAME:EST
DTSTART:20251102T060000
END:STANDARD
END:VTIMEZONE
BEGIN:VEVENT
DTSTART;TZID=America/New_York:20240715T081000
DTEND;TZID=America/New_York:20240715T121500
DTSTAMP:20260422T061123
CREATED:20240715T202231Z
LAST-MODIFIED:20240715T202231Z
UID:405-1721031000-1721045700@robertsacademy.org
SUMMARY:Half Day
DESCRIPTION:Today is a half-day. Dismissal will begin at 12:15 and conclude at 12:30.
URL:https://robertsacademy.org/event/half-day-2/
END:VEVENT
BEGIN:VEVENT
DTSTART;TZID=America/New_York:20240715T081000
DTEND;TZID=America/New_York:20240715T121500
DTSTAMP:20260422T061123
CREATED:20240715T202609Z
LAST-MODIFIED:20240715T202609Z
UID:410-1721031000-1721045700@robertsacademy.org
SUMMARY:Half Day/12:15 Dismissal
DESCRIPTION:Today is a half-day. Dismissal begins at 12:15 and concludes at 12:30.
URL:https://robertsacademy.org/event/half-day-1215-dismissal/
END:VEVENT
BEGIN:VEVENT
DTSTART;TZID=America/New_York:20240727T153000
DTEND;TZID=America/New_York:20240727T170000
DTSTAMP:20260422T061123
CREATED:20240715T201503Z
LAST-MODIFIED:20240715T201503Z
UID:397-1722094200-1722099600@robertsacademy.org
SUMMARY:Family Popsicle Pop In
DESCRIPTION:The Academy’s Family Popsicle Pop-In will be held on July 27 from 3:30-5:00 p.m. This special event is a wonderful opportunity for currently enrolled families to get acquainted with our school community. RSVP for the Pop-In here. 
URL:https://robertsacademy.org/event/family-popsicle-pop-in/
LOCATION:Roberts Academy\, 1027 Linden Avenue\, Macon\, GA\, 31210\, United States
END:VEVENT
END:VCALENDAR